BEGIN:VCALENDAR
PRODID:-//climbIT//Tourenangebot//DE
VERSION:2.0
METHOD:PUBLISH
BEGIN:VEVENT
UID:tour-30f9b592-ea69-4ccd-a2e4-973ecd198038@programm.sac-stgallen.ch
DTSTAMP:20260423T111219
SEQUENCE:0
CLASS:PUBLIC
TRANSP:OPAQUE
DTSTART;VALUE=DATE:20260717
DTEND;VALUE=DATE:20260719
SUMMARY:Sektion St. Gallen: Chli & Gross Leckihorn
DESCRIPTION:Nach deiner Anmeldung und bei jeder Statusänderung wird ein Kalendereintrag per E-Mail verschickt.\n\nAktuelle Informationen\nTourenlink: https://programm.sac-stgallen.ch/tours/view/30f9b592-ea69-4ccd-a2e4-973ecd198038\n\n\nDein Tourenangebot Team
END:VEVENT
END:VCALENDAR